BEGIN:VCALENDAR
VERSION:2.0
PRODID:-//Alexander Technique Brussels - ECPv6.15.20//NONSGML v1.0//EN
CALSCALE:GREGORIAN
METHOD:PUBLISH
X-WR-CALNAME:Alexander Technique Brussels
X-ORIGINAL-URL:https://www.alexandertechnique.be
X-WR-CALDESC:Events for Alexander Technique Brussels
REFRESH-INTERVAL;VALUE=DURATION:PT1H
X-Robots-Tag:noindex
X-PUBLISHED-TTL:PT1H
BEGIN:VTIMEZONE
TZID:Europe/Brussels
BEGIN:DAYLIGHT
TZOFFSETFROM:+0100
TZOFFSETTO:+0200
TZNAME:CEST
DTSTART:20140330T010000
END:DAYLIGHT
BEGIN:STANDARD
TZOFFSETFROM:+0200
TZOFFSETTO:+0100
TZNAME:CET
DTSTART:20141026T010000
END:STANDARD
BEGIN:DAYLIGHT
TZOFFSETFROM:+0100
TZOFFSETTO:+0200
TZNAME:CEST
DTSTART:20150329T010000
END:DAYLIGHT
BEGIN:STANDARD
TZOFFSETFROM:+0200
TZOFFSETTO:+0100
TZNAME:CET
DTSTART:20151025T010000
END:STANDARD
BEGIN:DAYLIGHT
TZOFFSETFROM:+0100
TZOFFSETTO:+0200
TZNAME:CEST
DTSTART:20160327T010000
END:DAYLIGHT
BEGIN:STANDARD
TZOFFSETFROM:+0200
TZOFFSETTO:+0100
TZNAME:CET
DTSTART:20161030T010000
END:STANDARD
BEGIN:DAYLIGHT
TZOFFSETFROM:+0100
TZOFFSETTO:+0200
TZNAME:CEST
DTSTART:20170326T010000
END:DAYLIGHT
BEGIN:STANDARD
TZOFFSETFROM:+0200
TZOFFSETTO:+0100
TZNAME:CET
DTSTART:20171029T010000
END:STANDARD
END:VTIMEZONE
BEGIN:VEVENT
DTSTART;TZID=Europe/Brussels:20160628T203000
DTEND;TZID=Europe/Brussels:20160628T220000
DTSTAMP:20260424T193605
CREATED:20150923T102835Z
LAST-MODIFIED:20160118T092806Z
UID:34313-1467145800-1467151200@www.alexandertechnique.be
SUMMARY:Talk on the principles of the Alexander Technique
DESCRIPTION:The subject of the talk\nAn introduction to the principles of the Alexander Technique and their relevance in our present day complex life\, as well as their significance towards self-improvement and awareness. \nHands on experience\nAn opportunity to experience the Alexander Technique hands on approach for improving coordination and use of oneself. \nThe Alexander Technique touch is a very subtle contact which helps improve poise and self-perception\, and allows initiation of  new or improved reactions and movements. \nQuestions and Answers\nThe place to receive an answer to your questions about the Alexander Technique. \nAnd the place to find out if the Alexander Technique is worth giving it a try to\nlearn to address your interests or difficulties in a practical pscyho-physical way. \nCome even if only curiosity brings you here.\nReading about the Alexander Technique or looking at poor videos can be misleading and lead to a very limited understanding of the real scope of the Alexander Technique. \nBooking required\nPlease write an e-mail to athvettas@hotmail.com\nor phone to 0477 29 10 53 (from 8 to 9 am and pm or Saturday afternoon)
URL:https://www.alexandertechnique.be/agenda/talk-on-the-principles-of-the-alexander-technique/
LOCATION:Alexander Technique Brussels\, Rue Solleveld 53\, Brussels\, 1200\, Belgium
CATEGORIES:Talks on the Alexander Technique
ORGANIZER;CN="Athanase Vettas":MAILTO:info@alexandertechnique.be
END:VEVENT
BEGIN:VEVENT
DTSTART;TZID=Europe/Brussels:20160426T203000
DTEND;TZID=Europe/Brussels:20160426T220000
DTSTAMP:20260424T193605
CREATED:20150330T062429Z
LAST-MODIFIED:20160120T095111Z
UID:31276-1461702600-1461708000@www.alexandertechnique.be
SUMMARY:Talk on the Alexander Technique and movement
DESCRIPTION:Subject of tonight’s introductory talk on the Alexander Technique\nMovement starts deep within ourselves\, long before we are aware of\, where it can be neither seen nor felt\, where only our present state of use and our inner attitude can influence it. \nThe Alexander Technique helps us becoming more free and available for overruling undesirable patterns of movement. \nWe can then initiate movement in a more reliable state of awareness and coordination and improve our performance in a constant manner. \nIntroduction to the principles and procedures of the Alexander Technique. \nPractical demonstration\nThis is the place to have a practical experience of the Alexander subtle touch and feel how it can inform and support our nervous system to improve our posture\, balance and coordination\, and prepare us to movement. \nQuestions and answers\nYou are welcome to ask questions during and after the talk and demonstration.\nYou will be able to find out what the Alexander Technique can offer you. \nYou are also welcome even if you are here simply by curiosity. Reading a book or watching videos is often not enough to get a clear idea and experience of the real scope and possibilities of the Alexander Technique. \nBooking required\nPlease book at athvettas@hotmail.com or 0477 29 10 53 (8 to 9 am or pm and Saturday afternoon).
URL:https://www.alexandertechnique.be/agenda/talk-on-the-alexander-technique-and-movement/
LOCATION:Alexander Technique Brussels\, Rue Solleveld 53\, Brussels\, 1200\, Belgium
CATEGORIES:Talks on the Alexander Technique
ORGANIZER;CN="Athanase Vettas":MAILTO:info@alexandertechnique.be
END:VEVENT
BEGIN:VEVENT
DTSTART;TZID=Europe/Brussels:20160416T150000
DTEND;TZID=Europe/Brussels:20160416T180000
DTSTAMP:20260424T193605
CREATED:20150330T135859Z
LAST-MODIFIED:20190119T154050Z
UID:31304-1460818800-1460829600@www.alexandertechnique.be
SUMMARY:Workshop on the Alexander Technique principles
DESCRIPTION:This workshop will give you the opportunity to become aware of the practical implications of the principles of the Alexander Technique in your everyday and professional activities in relation to movement\, stress\, pain and habitual reactions. \n\nNe previous experience is necessary. \nPlease come in comfortable clothes which do not impede movement and with floor socks or shoes. \n\n  \n \nThree dimensions will be explored : \n\npractical and simplified anatomy\nawareness of habitual muscular tension and reactions in our body\nthe Alexander Technique active rest position\n\n \n\n-8 participants maximum \n-Doors open at 2.45pm \n-Booking required at athvettas@hotmail.com or 0477 29 10 53 \n-Cost : 50€ (including water\, coffee\, tea and cookies)\nPayable cash on the premises or by bank on BE69 0682 4093 3778
URL:https://www.alexandertechnique.be/agenda/workshop-2016-16-04/
LOCATION:Alexander Technique Brussels\, Rue Solleveld 53\, Brussels\, 1200\, Belgium
CATEGORIES:Workshop
ORGANIZER;CN="Athanase Vettas":MAILTO:info@alexandertechnique.be
END:VEVENT
BEGIN:VEVENT
DTSTART;TZID=Europe/Brussels:20160223T203000
DTEND;TZID=Europe/Brussels:20160223T220000
DTSTAMP:20260424T193605
CREATED:20150201T232339Z
LAST-MODIFIED:20160120T063335Z
UID:4559-1456259400-1456264800@www.alexandertechnique.be
SUMMARY:Talk on the Alexander Technique and pain
DESCRIPTION:Subject of tonight’s introductory talk on the Alexander Technique\nPrimarily the Alexander Technique helps raising awareness and organizing ourselves for improved use of ourselves in our activities. \nThis also implies improved awareness of how we react to pain\, which can help us discover better ways of dealing with it\, on top of whatever treatment\, when necessary\, we might be following. \nWe learn how to prevent the body from reinforcing compensatory protective reactions and maintain a good coordination. \n\nPractical demonstration \nYou have the opportunity to experience the Alexander Technique unique subtle touch for improved perception of oneself. \n\nQuestions and answers \nQuestions will be welcomed during and after the talk and demonstration.\nYou will be able to find out how the Alexander Technique can help deal consciously with your difficulties. \nYou are welcome even if curiosity only brings you here\, as reading about the Alexander Technique or watching bad videos on the web is not enough to grasp its powerful and practical dimension. \n\nBooking required \nPlease write to athvettas@hotmail.com or phone to 0477 29 10 53 (8 to 9 am and pm or Saturday afternoon) \n\n \n  \n 
URL:https://www.alexandertechnique.be/agenda/talk-on-the-alexander-technique-and-pain/
LOCATION:Alexander Technique Brussels\, Rue Solleveld 53\, Brussels\, 1200\, Belgium
CATEGORIES:Talks on the Alexander Technique
ORGANIZER;CN="Athanase Vettas":MAILTO:info@alexandertechnique.be
END:VEVENT
BEGIN:VEVENT
DTSTART;TZID=Europe/Brussels:20160101T000000
DTEND;TZID=Europe/Brussels:20161231T000000
DTSTAMP:20260424T193605
CREATED:20150912T103650Z
LAST-MODIFIED:20161105T154240Z
UID:34301-1451606400-1483142400@www.alexandertechnique.be
SUMMARY:Information on lessons\, talks and workshops
DESCRIPTION:INDIVIDUAL LESSONS\nMy working time is mainly devoted to providing individual lessons at\nrue Solleveld 53 – Woluwe Saint-Lambert – 1200 Brussels. \nThe cost of a lesson is 50 € and last around 45 to 60 minutes. \nI charge 40 € to younger people and students. \nAfter an initial lesson of evaluation\, a commitment to 10 lessons is expected\nin order to secure practical benefits and fundamental understanding of the Alexander Technique psycho-physical approach. \nIf your interest in the Alexander Technique is serious enough and you have financial concerns\, please do contact me to find out about possible arrangements. \nContact : athvettas@hotmail.com and 0477 29 10 53 \n\nINTRODUCTORY TALKS\n\nUnless otherwise specified\, introductory talks usually take place at rue Solleveld 53 – 1200 Brussels and cost 5€ (see events below). \nThe main purpose of my talks is to give you the opportunity to come and meet me and have a practical hands on experience of the Alexander Technique. \nAt the same time it is the ideal place to ask your questions freely and find out if you might consider to go further and discover what the Alexander Technique might have to offer you. \nYou are also welcome if just curiosity brings you here\, as reading about it on internet on watching videos on You Tube cannot replace a real hands on experience and might even be misleading sometimes as to the real nature of the work. \nI am also welcoming propositions for introductory talks to groups of a minimum 6 people at a place of your choice. \nContact : athvettas@hotmail.com and  0477 29 10 53 \n\nCONFERENCES\nI am available for presentations of the Alexander Technique to larger and more specific audiences (scientific\, artistic\, medical\, sportsmen\,…) or to the general public. \nContact: athvettas@hotmail.com and 0477 29 10 53 \n\nWORKSHOPS\nI am organizing small introductory workshops for 8 participants maximum a few times per year where no previous experience in the Alexander is needed (see events below). \n \n \nIt is possible\, on demand\, to organize more specific and longer workshops\,\n  or even with larger groups together with other coleagues. \nContact : athvettas@hotmail.com and 0477 29 10 53 \n\nPROFESSIONAL WORKSHOPS FOR BODY AND MANUAL PRACTITIONERS\nI am also\, on demand\, leading workshops for manual and movement therapists and teachers\, where I help them become more aware in the use of themselves and the use of their hands while working on their patients or teaching movement. \nContact: athvettas@hotmail.com and 0477 29 10 53 \n\nWORKSHOPS FOR STUDENTS \nI am also available for workshops on the use of the body and the hands for students in professional training schools (hairdressers\, tailors\, etc …). \nContact: athvettas@hotmail.com and 0477 29 10 53
URL:https://www.alexandertechnique.be/agenda/info-talks-conferences-workshops/
LOCATION:Alexander Technique Brussels\, Rue Solleveld 53\, Brussels\, 1200\, Belgium
ORGANIZER;CN="Athanase Vettas":MAILTO:info@alexandertechnique.be
END:VEVENT
BEGIN:VEVENT
DTSTART;VALUE=DATE:20151019
DTEND;VALUE=DATE:20151024
DTSTAMP:20260424T193605
CREATED:20150330T134243Z
LAST-MODIFIED:20150904T155845Z
UID:31316-1445212800-1445644799@www.alexandertechnique.be
SUMMARY:Alexander Technique Awareness Week - Belgian Association of Teachers of the Alexander Technique
DESCRIPTION:Athanase is participating to the Alexander Technique international awareness week. \nFor free lessons\, please contact me in October. \nConferences\, workshops and free introductory Alexander Technique lessons during the international annual Alexander Technique Awareness Week\, this year in Belgium from Monday 19 to Friday 23 October 2015. \nSee details in AEFMAT-OPEN-DAY-Flyer-web-october 2015
URL:https://www.alexandertechnique.be/agenda/awareness-week-alexander-technique/
LOCATION:Alexander Technique Brussels\, Rue Solleveld 53\, Brussels\, 1200\, Belgium
CATEGORIES:Free introductory lesson
ORGANIZER;CN="Athanase Vettas":MAILTO:info@alexandertechnique.be
END:VEVENT
BEGIN:VEVENT
DTSTART;TZID=Europe/Brussels:20151018T100000
DTEND;TZID=Europe/Brussels:20151018T170000
DTSTAMP:20260424T193605
CREATED:20150330T133803Z
LAST-MODIFIED:20190119T154100Z
UID:31313-1445162400-1445187600@www.alexandertechnique.be
SUMMARY:Open Door - Belgian Association of Teachers of the Alexander Technique
DESCRIPTION:Athanase will be present at the Open Door organized by the Belgian Association of Teachers of the Alexander Technique on Sunday 16 October 2016 at De Markten from 10 to 5pm. \nSee details in our flyer at-flyer-iataw-2016-web-smart-phone \nCome and experience a first hand experience of the Alexander approach with the teachers of our association \nIntroductory talk in English at 11am
URL:https://www.alexandertechnique.be/agenda/journee-portes-ouvertes-2015-aefmat/
LOCATION:De Markten\, Place du Vieux Marché aux Grains 5\, Brussels\, 1000
CATEGORIES:OPEN DOOR,Talks on the Alexander Technique,Workshop
ORGANIZER;CN="AEFMAT":MAILTO:athvettas@hotmail.com
END:VEVENT
BEGIN:VEVENT
DTSTART;TZID=Europe/Brussels:20150425T150000
DTEND;TZID=Europe/Brussels:20150425T180000
DTSTAMP:20260424T193605
CREATED:20150330T135632Z
LAST-MODIFIED:20190119T154110Z
UID:31302-1429974000-1429984800@www.alexandertechnique.be
SUMMARY:Introductory workshop on the principles of the Alexander Technique
DESCRIPTION:These workshops will give you the opportunity to become aware of the practical implications of the principles of the Alexander Technique in your everyday and professional life in relation to movement\, stress\, pain and habitual reactions. \nNe previous experience necessary. \nPlease come in comfortable clothes which do not impede movement and with floor socks. \nThree dimensions will be explored : \n\nelementary notions of practical anatomy\nintroduction to awareness and control of habitual reactions in our body\nlearning of the Alexander Technique active resting position.\n\n8 participants maximum
URL:https://www.alexandertechnique.be/agenda/workshop-2015-04-25/
LOCATION:Alexander Technique Brussels\, Rue Solleveld 53\, Brussels\, 1200\, Belgium
CATEGORIES:Workshop
ORGANIZER;CN="Athanase Vettas":MAILTO:info@alexandertechnique.be
END:VEVENT
BEGIN:VEVENT
DTSTART;TZID=Europe/Brussels:20150416T203000
DTEND;TZID=Europe/Brussels:20150416T220000
DTSTAMP:20260424T193605
CREATED:20150330T061042Z
LAST-MODIFIED:20150330T061526Z
UID:31274-1429216200-1429221600@www.alexandertechnique.be
SUMMARY:The Alexander Technique and movement
DESCRIPTION:Movement starts within ourselves\, where it can be neither seen nor felt\, where only our state of use and our inner attitude can influence it. The Alexander Technique helps us becoming more free and available for overruling undesirable patterns of movement.  \nIntroduction to the Alexander Technique and practical hands on experience of its kinestthesic approach.
URL:https://www.alexandertechnique.be/agenda/the-alexander-technique-and-movement/
LOCATION:Alexander Technique Brussels\, Rue Solleveld 53\, Brussels\, 1200\, Belgium
CATEGORIES:Talks on the Alexander Technique
ORGANIZER;CN="Athanase Vettas":MAILTO:info@alexandertechnique.be
END:VEVENT
END:VCALENDAR